BEGIN:VCALENDAR
VERSION:2.0
PRODID:-//ChamberMaster//Event Calendar 2.0//EN
METHOD:PUBLISH
X-PUBLISHED-TTL:P3D
REFRESH-INTERVAL:P3D
CALSCALE:GREGORIAN
BEGIN:VEVENT
DTSTART:20230223T130000Z
DTEND:20230223T140000Z
X-MICROSOFT-CDO-ALLDAYEVENT:FALSE
SUMMARY:Wild Wild West Sunrise Chamber Leads Group
DESCRIPTION:Wild Wild West. The purpose of the Wild Wild West is to develop and support the generation of business leads for members of the group. A leads group membership is streamlined by industry. It is limited to one member per business category. This group meets the 2nd and 4th Thursdays of the month in person. Each meeting the group has a presenter and has 20 minutes to present. The presenter also is responsible to bring light refreshments for the group.
X-ALT-DESC;FMTTYPE=text/html:<strong style="color: rgb(51\, 51\, 51)\; font-family: sans-serif\, Arial\, Verdana\, &quot\;Trebuchet MS&quot\;\; font-size: 13px\;">Wild Wild West.&nbsp\;</strong><span style="color: rgb(51\, 51\, 51)\; font-family: sans-serif\, Arial\, Verdana\, &quot\;Trebuchet MS&quot\;\; font-size: 13px\; background-color: rgb(255\, 255\, 255)\;">The purpose of the Wild Wild West is to develop and support the generation of business leads for members of the group. A leads group membership is streamlined by industry. It is limited to one member per business category. This group meets the 2nd and 4th Thursdays of the month in person. Each meeting the group has a presenter and has 20 minutes to present. The presenter also is responsible to bring light refreshments for the group.&nbsp\;</span>
LOCATION:Oppenheim Law Unit 205 2500 Weston Road Weston\, FL 33331
UID:e.1797.2953
SEQUENCE:3
DTSTAMP:20260422T024323Z
URL:https://business.sunrisechamber.org/events/details/wild-wild-west-sunrise-chamber-leads-group-2953
END:VEVENT

END:VCALENDAR
