BEGIN:VCALENDAR
VERSION:2.0
PRODID:-//ChamberMaster//Event Calendar 2.0//EN
METHOD:PUBLISH
X-PUBLISHED-TTL:P3D
REFRESH-INTERVAL:P3D
CALSCALE:GREGORIAN
BEGIN:VEVENT
DTSTART:20230224T000000Z
DTEND:20230224T020000Z
X-MICROSOFT-CDO-ALLDAYEVENT:FALSE
SUMMARY:Taste of Sunrise
DESCRIPTION:Taste of Sunrise Admission- The 6th Annual Taste of Sunrise featuring over 30 local restaurants. You will have the opportunity to sample the foods and meet local restaurants in our community. This event has a limited number of tickets available and will sell out.
X-ALT-DESC;FMTTYPE=text/html:Taste of Sunrise Admission- The 6th Annual Taste of Sunrise featuring over 30&nbsp\;local restaurants. You will have the opportunity to sample the foods and meet local restaurants in our community. This event has a limited number of tickets available and will sell out.<br />\n<br />\n&nbsp\;
LOCATION:Sunrise Civic Center 10610 West Oakland Park Blvd. Sunrise\, FL 33313
UID:e.1797.2954
SEQUENCE:3
DTSTAMP:20260422T024156Z
URL:https://business.sunrisechamber.org/events/details/taste-of-sunrise-2954
END:VEVENT

END:VCALENDAR
